BEGIN:VCALENDAR
VERSION:2.0
PRODID:-//https://www.kgafreiesland.de///NONSGML kigkonsult.se iCalcreator 2.10.15//
METHOD:PUBLISH
BEGIN:VEVENT
UID:20260420T204311CEST-0334JU4W7w@https://www.kgafreiesland.de/
DTSTAMP:20260420T184311Z
DESCRIPTION:1. Vors./Schatzm./Ele/Wa https://www.kgafreiesland.de/de/compon
 ent/rseventspro/ereignis/1-ablesung-vereinsgaststaette?Itemid=337
DTSTART:20261229T110000Z
DTEND:20261229T130000Z
LOCATION:Vereinsgaststätte / Vereinshaus ()
SUMMARY:Ablesung Vereinsgaststätte
URL:https://www.kgafreiesland.de/de/component/rseventspro/ereignis/1-ablesu
 ng-vereinsgaststaette?Itemid=337
END:VEVENT
END:VCALENDAR
