BEGIN:VCALENDAR
VERSION:2.0
PRODID:-//https://www.kgafreiesland.de///NONSGML kigkonsult.se iCalcreator 2.10.15//
METHOD:PUBLISH
BEGIN:VEVENT
UID:20260420T202135CEST-9877VEEUUN@https://www.kgafreiesland.de/
DTSTAMP:20260420T182135Z
DESCRIPTION:Schatzmeisterei / Buchhaltung https://www.kgafreiesland.de/de/c
 omponent/rseventspro/ereignis/13-kassenstunde?Itemid=337
DTSTART:20261106T120000Z
DTEND:20261106T130000Z
LOCATION:Vereinshaus (Romain-Rolland-Straße 35A\, 13089 Berlin\, Deutschlan
 d)
SUMMARY:Kassenstunde
URL:https://www.kgafreiesland.de/de/component/rseventspro/ereignis/13-kasse
 nstunde?Itemid=337
END:VEVENT
END:VCALENDAR
