BEGIN:VCALENDAR
VERSION:2.0
PRODID:-//https://www.kgafreiesland.de///NONSGML kigkonsult.se iCalcreator 2.10.15//
METHOD:PUBLISH
BEGIN:VEVENT
UID:20260420T165601CEST-3039Wgta8i@https://www.kgafreiesland.de/
DTSTAMP:20260420T145601Z
DESCRIPTION:Gartenfachberatung https://www.kgafreiesland.de/de/component/rs
 eventspro/ereignis/15-sitzung-kommission-gartenfachberatung?Itemid=337
DTSTART:20261103T183000Z
DTEND:20261103T203000Z
LOCATION:Vereinshaus (Romain-Rolland-Straße 35A\, 13089 Berlin\, Deutschlan
 d)
SUMMARY:Sitzung Kommission Gartenfachberatung
URL:https://www.kgafreiesland.de/de/component/rseventspro/ereignis/15-sitzu
 ng-kommission-gartenfachberatung?Itemid=337
END:VEVENT
END:VCALENDAR
