BEGIN:VCALENDAR
VERSION:2.0
PRODID:-//https://www.kgafreiesland.de///NONSGML kigkonsult.se iCalcreator 2.10.15//
METHOD:PUBLISH
BEGIN:VEVENT
UID:20260424T122314CEST-1647DAWoNf@https://www.kgafreiesland.de/
DTSTAMP:20260424T102314Z
DESCRIPTION:Vorstand / Kulturkommission https://www.kgafreiesland.de/de/com
 ponent/rseventspro/ereignis/16-laternenumzug-der-schule-am-wasserturm?Item
 id=337
DTSTART:20261102T170000Z
DTEND:20261102T190000Z
LOCATION:Kleingartenanlage ()
SUMMARY:Laternenumzug der Schule am Wasserturm
URL:https://www.kgafreiesland.de/de/component/rseventspro/ereignis/16-later
 nenumzug-der-schule-am-wasserturm?Itemid=337
END:VEVENT
END:VCALENDAR
