BEGIN:VCALENDAR
VERSION:2.0
PRODID:-//https://www.kgafreiesland.de///NONSGML kigkonsult.se iCalcreator 2.10.15//
METHOD:PUBLISH
BEGIN:VEVENT
UID:20260420T164725CEST-6966xe5bCF@https://www.kgafreiesland.de/
DTSTAMP:20260420T144725Z
DESCRIPTION:Leiter SIKO https://www.kgafreiesland.de/de/component/rseventsp
 ro/ereignis/17-sitzung-siko?Itemid=337
DTSTART:20261027T170000Z
DTEND:20261027T190000Z
LOCATION:Vereinshaus (Romain-Rolland-Straße 35A\, 13089 Berlin\, Deutschlan
 d)
SUMMARY:Sitzung SIKO
URL:https://www.kgafreiesland.de/de/component/rseventspro/ereignis/17-sitzu
 ng-siko?Itemid=337
END:VEVENT
END:VCALENDAR
