BEGIN:VCALENDAR
VERSION:2.0
PRODID:-//https://www.kgafreiesland.de///NONSGML kigkonsult.se iCalcreator 2.10.15//
METHOD:PUBLISH
BEGIN:VEVENT
UID:20260422T111314CEST-0516CVBkr9@https://www.kgafreiesland.de/
DTSTAMP:20260422T091314Z
DESCRIPTION:Gartenvergabe gfV https://www.kgafreiesland.de/de/component/rse
 ventspro/ereignis/19-sitzung-gartenvergabe?Itemid=337
DTSTART:20261012T164500Z
DTEND:20261012T184500Z
LOCATION:Vereinshaus (Romain-Rolland-Straße 35A\, 13089 Berlin\, Deutschlan
 d)
SUMMARY:Sitzung Gartenvergabe
URL:https://www.kgafreiesland.de/de/component/rseventspro/ereignis/19-sitzu
 ng-gartenvergabe?Itemid=337
END:VEVENT
END:VCALENDAR
