BEGIN:VCALENDAR
VERSION:2.0
PRODID:-//https://www.kgafreiesland.de///NONSGML kigkonsult.se iCalcreator 2.10.15//
METHOD:PUBLISH
BEGIN:VEVENT
UID:20260420T183821CEST-1037Zu3fvh@https://www.kgafreiesland.de/
DTSTAMP:20260420T163821Z
DESCRIPTION:Vorsitzende/r der Abteilung https://www.kgafreiesland.de/de/com
 ponent/rseventspro/ereignis/23-mitglieder-versammlung-abteilung-2?Itemid=3
 37
DTSTART:20261009T100000Z
DTEND:20261009T120000Z
LOCATION:Vereinsgaststätte ()
SUMMARY:Mitglieder-Versammlung Abteilung 2
URL:https://www.kgafreiesland.de/de/component/rseventspro/ereignis/23-mitgl
 ieder-versammlung-abteilung-2?Itemid=337
END:VEVENT
END:VCALENDAR
