BEGIN:VCALENDAR
VERSION:2.0
PRODID:-//https://www.kgafreiesland.de///NONSGML kigkonsult.se iCalcreator 2.10.15//
METHOD:PUBLISH
BEGIN:VEVENT
UID:20260422T124135CEST-7079G5kFlL@https://www.kgafreiesland.de/
DTSTAMP:20260422T104135Z
DESCRIPTION:1 Mitglied gf. Vorstand + Abtl. 2 https://www.kgafreiesland.de/
 de/component/rseventspro/ereignis/24-sprechstunde?Itemid=337
DTSTART:20261007T173000Z
DTEND:20261007T183000Z
LOCATION:Vereinshaus (Romain-Rolland-Straße 35A\, 13089 Berlin\, Deutschlan
 d)
SUMMARY:Sprechstunde
URL:https://www.kgafreiesland.de/de/component/rseventspro/ereignis/24-sprec
 hstunde?Itemid=337
END:VEVENT
END:VCALENDAR
