BEGIN:VCALENDAR
VERSION:2.0
PRODID:-//https://www.kgafreiesland.de///NONSGML kigkonsult.se iCalcreator 2.10.15//
METHOD:PUBLISH
BEGIN:VEVENT
UID:20260420T183844CEST-10930L65E0@https://www.kgafreiesland.de/
DTSTAMP:20260420T163844Z
DESCRIPTION:Vorsitzende/r der Abteilung https://www.kgafreiesland.de/de/com
 ponent/rseventspro/ereignis/25-mitglieder-versammlung-abteilung-5?Itemid=3
 37
DTSTART:20260926T130000Z
DTEND:20260926T150000Z
LOCATION:Vereinsgaststätte ()
SUMMARY:Mitglieder-Versammlung Abteilung 5
URL:https://www.kgafreiesland.de/de/component/rseventspro/ereignis/25-mitgl
 ieder-versammlung-abteilung-5?Itemid=337
END:VEVENT
END:VCALENDAR
