BEGIN:VCALENDAR
VERSION:2.0
PRODID:-//https://www.kgafreiesland.de///NONSGML kigkonsult.se iCalcreator 2.10.15//
METHOD:PUBLISH
BEGIN:VEVENT
UID:20260420T183212CEST-3248SvBnIv@https://www.kgafreiesland.de/
DTSTAMP:20260420T163212Z
DESCRIPTION:Vorstand / Kulturkommission https://www.kgafreiesland.de/de/com
 ponent/rseventspro/ereignis/29-erntedankfest?Itemid=337
DTSTART:20260918T180000Z
DTEND:20260918T200000Z
LOCATION:Festplatz ()
SUMMARY:Erntedankfest
URL:https://www.kgafreiesland.de/de/component/rseventspro/ereignis/29-ernte
 dankfest?Itemid=337
END:VEVENT
END:VCALENDAR
