BEGIN:VCALENDAR
VERSION:2.0
PRODID:-//https://www.kgafreiesland.de///NONSGML kigkonsult.se iCalcreator 2.10.15//
METHOD:PUBLISH
BEGIN:VEVENT
UID:20260422T124202CEST-4715kgc8XX@https://www.kgafreiesland.de/
DTSTAMP:20260422T104202Z
DESCRIPTION:Schatzmeisterei / Buchhaltung https://www.kgafreiesland.de/de/c
 omponent/rseventspro/ereignis/3-kassenstunde?Itemid=337
DTSTART:20261212T120000Z
DTEND:20261212T130000Z
LOCATION:Vereinshaus (Romain-Rolland-Straße 35A\, 13089 Berlin\, Deutschlan
 d)
SUMMARY:Kassenstunde
URL:https://www.kgafreiesland.de/de/component/rseventspro/ereignis/3-kassen
 stunde?Itemid=337
END:VEVENT
END:VCALENDAR
