BEGIN:VCALENDAR
VERSION:2.0
PRODID:-//https://www.kgafreiesland.de///NONSGML kigkonsult.se iCalcreator 2.10.15//
METHOD:PUBLISH
BEGIN:VEVENT
UID:20260420T165237CEST-1306U6k62V@https://www.kgafreiesland.de/
DTSTAMP:20260420T145237Z
DESCRIPTION:Gartenfachberatung https://www.kgafreiesland.de/de/component/rs
 eventspro/ereignis/30-saatgutboerse?Itemid=337
DTSTART:20260918T100000Z
DTEND:20260918T130000Z
LOCATION:Festplatz ()
SUMMARY:Saatgutbörse
URL:https://www.kgafreiesland.de/de/component/rseventspro/ereignis/30-saatg
 utboerse?Itemid=337
END:VEVENT
END:VCALENDAR
