BEGIN:VCALENDAR
VERSION:2.0
PRODID:-//https://www.kgafreiesland.de///NONSGML kigkonsult.se iCalcreator 2.10.15//
METHOD:PUBLISH
BEGIN:VEVENT
UID:20260420T183330CEST-5269oJSu4L@https://www.kgafreiesland.de/
DTSTAMP:20260420T163330Z
DESCRIPTION:Gartenfachberatung https://www.kgafreiesland.de/de/component/rs
 eventspro/ereignis/37-baumschnittseminar?Itemid=337
DTSTART:20260904T100000Z
DTEND:20260904T120000Z
LOCATION:Kleingartenanlage ()
SUMMARY:Baumschnittseminar
URL:https://www.kgafreiesland.de/de/component/rseventspro/ereignis/37-baums
 chnittseminar?Itemid=337
END:VEVENT
END:VCALENDAR
