BEGIN:VCALENDAR
VERSION:2.0
PRODID:-//https://www.kgafreiesland.de///NONSGML kigkonsult.se iCalcreator 2.10.15//
METHOD:PUBLISH
BEGIN:VEVENT
UID:20260420T183614CEST-8419f0K6V7@https://www.kgafreiesland.de/
DTSTAMP:20260420T163614Z
DESCRIPTION:Gartenvergabe gfV https://www.kgafreiesland.de/de/component/rse
 ventspro/ereignis/44-sitzung-gartenvergabe?Itemid=337
DTSTART:20260713T164500Z
DTEND:20260713T184500Z
LOCATION:Vereinshaus (Romain-Rolland-Straße 35A\, 13089 Berlin\, Deutschlan
 d)
SUMMARY:Sitzung Gartenvergabe
URL:https://www.kgafreiesland.de/de/component/rseventspro/ereignis/44-sitzu
 ng-gartenvergabe?Itemid=337
END:VEVENT
END:VCALENDAR
