BEGIN:VCALENDAR
VERSION:2.0
PRODID:-//https://www.kgafreiesland.de///NONSGML kigkonsult.se iCalcreator 2.10.15//
METHOD:PUBLISH
BEGIN:VEVENT
UID:20260420T164936CEST-4102JuVVgO@https://www.kgafreiesland.de/
DTSTAMP:20260420T144936Z
DESCRIPTION:1. Vorsitzender https://www.kgafreiesland.de/de/component/rseve
 ntspro/ereignis/47-sitzung-geschaeftsfuehrender-vorstand?Itemid=337
DTSTART:20260706T180000Z
DTEND:20260706T200000Z
LOCATION:Vereinshaus (Romain-Rolland-Straße 35A\, 13089 Berlin\, Deutschlan
 d)
SUMMARY:Sitzung geschäftsführender Vorstand
URL:https://www.kgafreiesland.de/de/component/rseventspro/ereignis/47-sitzu
 ng-geschaeftsfuehrender-vorstand?Itemid=337
END:VEVENT
END:VCALENDAR
