BEGIN:VCALENDAR
VERSION:2.0
PRODID:-//https://www.kgafreiesland.de///NONSGML kigkonsult.se iCalcreator 2.10.15//
METHOD:PUBLISH
BEGIN:VEVENT
UID:20260420T164542CEST-8811HCilvw@https://www.kgafreiesland.de/
DTSTAMP:20260420T144542Z
DESCRIPTION:1 Mitglied gf. Vorstand + Abtl. 3 https://www.kgafreiesland.de/
 de/component/rseventspro/ereignis/49-sprechstunde?Itemid=337
DTSTART:20260703T130000Z
DTEND:20260703T140000Z
LOCATION:Vereinshaus (Romain-Rolland-Straße 35A\, 13089 Berlin\, Deutschlan
 d)
SUMMARY:Sprechstunde
URL:https://www.kgafreiesland.de/de/component/rseventspro/ereignis/49-sprec
 hstunde?Itemid=337
END:VEVENT
END:VCALENDAR
