BEGIN:VCALENDAR
VERSION:2.0
PRODID:-//https://www.kgafreiesland.de///NONSGML kigkonsult.se iCalcreator 2.10.15//
METHOD:PUBLISH
BEGIN:VEVENT
UID:20260420T184021CEST-7329aV2IS6@https://www.kgafreiesland.de/
DTSTAMP:20260420T164021Z
DESCRIPTION:Vorstand / Kulturkommission https://www.kgafreiesland.de/de/com
 ponent/rseventspro/ereignis/5-adventsingen-und-kleiner-weihnachtsmarkt?Ite
 mid=337
DTSTART:20261206T160000Z
DTEND:20261206T180000Z
LOCATION:Festplatz / Vereinsgaststätte ()
SUMMARY:Adventsingen und kleiner Weihnachtsmarkt
URL:https://www.kgafreiesland.de/de/component/rseventspro/ereignis/5-advent
 singen-und-kleiner-weihnachtsmarkt?Itemid=337
END:VEVENT
END:VCALENDAR
