BEGIN:VCALENDAR
VERSION:2.0
PRODID:-//https://www.kgafreiesland.de///NONSGML kigkonsult.se iCalcreator 2.10.15//
METHOD:PUBLISH
BEGIN:VEVENT
UID:20260420T202802CEST-9694bkIdPO@https://www.kgafreiesland.de/
DTSTAMP:20260420T182802Z
DESCRIPTION:KGA gesamt https://www.kgafreiesland.de/de/component/rseventspr
 o/ereignis/57-tag-des-gartens-2025?Itemid=337
DTSTART:20260607T000000Z
DTEND:20260607T020000Z
LOCATION:Kleingartenanlage ()
SUMMARY:Tag des Gartens 2025
URL:https://www.kgafreiesland.de/de/component/rseventspro/ereignis/57-tag-d
 es-gartens-2025?Itemid=337
END:VEVENT
END:VCALENDAR
