BEGIN:VCALENDAR
VERSION:2.0
PRODID:-//https://www.kgafreiesland.de///NONSGML kigkonsult.se iCalcreator 2.10.15//
METHOD:PUBLISH
BEGIN:VEVENT
UID:20260420T202637CEST-8188G0Dr2i@https://www.kgafreiesland.de/
DTSTAMP:20260420T182637Z
DESCRIPTION:1. Vorsitzender https://www.kgafreiesland.de/de/component/rseve
 ntspro/ereignis/60-sitzung-erweiterter-vorstand?Itemid=337
DTSTART:20260605T120000Z
DTEND:20260605T140000Z
LOCATION:Vereinshaus (Romain-Rolland-Straße 35A\, 13089 Berlin\, Deutschlan
 d)
SUMMARY:Sitzung erweiterter Vorstand
URL:https://www.kgafreiesland.de/de/component/rseventspro/ereignis/60-sitzu
 ng-erweiterter-vorstand?Itemid=337
END:VEVENT
END:VCALENDAR
