BEGIN:VCALENDAR
VERSION:2.0
PRODID:-//https://www.kgafreiesland.de///NONSGML kigkonsult.se iCalcreator 2.10.15//
METHOD:PUBLISH
BEGIN:VEVENT
UID:20260422T110812CEST-53170u6lx4@https://www.kgafreiesland.de/
DTSTAMP:20260422T090812Z
DESCRIPTION:1 Mitglied gf. Vorstand + Abtl. 6 https://www.kgafreiesland.de/
 de/component/rseventspro/ereignis/62-sprechstunde?Itemid=337
DTSTART:20260603T173000Z
DTEND:20260603T183000Z
LOCATION:Vereinshaus (Romain-Rolland-Straße 35A\, 13089 Berlin\, Deutschlan
 d)
SUMMARY:Sprechstunde
URL:https://www.kgafreiesland.de/de/component/rseventspro/ereignis/62-sprec
 hstunde?Itemid=337
END:VEVENT
END:VCALENDAR
