BEGIN:VCALENDAR
VERSION:2.0
PRODID:-//https://www.kgafreiesland.de///NONSGML kigkonsult.se iCalcreator 2.10.15//
METHOD:PUBLISH
BEGIN:VEVENT
UID:20260420T183939CEST-3414GreXmL@https://www.kgafreiesland.de/
DTSTAMP:20260420T163939Z
DESCRIPTION:Gartenfachberatung https://www.kgafreiesland.de/de/component/rs
 eventspro/ereignis/63-sitzung-kommission-gartenfachberatung?Itemid=337
DTSTART:20260601T183000Z
DTEND:20260601T203000Z
LOCATION:Vereinsgaststätte ()
SUMMARY:Sitzung Kommission Gartenfachberatung
URL:https://www.kgafreiesland.de/de/component/rseventspro/ereignis/63-sitzu
 ng-kommission-gartenfachberatung?Itemid=337
END:VEVENT
END:VCALENDAR
