BEGIN:VCALENDAR
VERSION:2.0
PRODID:-//https://www.kgafreiesland.de///NONSGML kigkonsult.se iCalcreator 2.10.15//
METHOD:PUBLISH
BEGIN:VEVENT
UID:20260420T204144CEST-2767ulzUex@https://www.kgafreiesland.de/
DTSTAMP:20260420T184144Z
DESCRIPTION:KGA gesamt https://www.kgafreiesland.de/de/component/rseventspr
 o/ereignis/65-langer-tag-der-stadtnatur?Itemid=337
DTSTART:20260531T100000Z
DTEND:20260531T120000Z
LOCATION:Kleingartenanlage ()
SUMMARY:Langer Tag der Stadtnatur
URL:https://www.kgafreiesland.de/de/component/rseventspro/ereignis/65-lange
 r-tag-der-stadtnatur?Itemid=337
END:VEVENT
END:VCALENDAR
