BEGIN:VCALENDAR
VERSION:2.0
PRODID:-//https://www.kgafreiesland.de///NONSGML kigkonsult.se iCalcreator 2.10.15//
METHOD:PUBLISH
BEGIN:VEVENT
UID:20260422T110941CEST-1724E9wm0A@https://www.kgafreiesland.de/
DTSTAMP:20260422T090941Z
DESCRIPTION:Vorstand / Kulturkommission https://www.kgafreiesland.de/de/com
 ponent/rseventspro/ereignis/67-flohmarkt?Itemid=337
DTSTART:20260528T100000Z
DTEND:20260528T120000Z
LOCATION:Festplatz / Vereinsgaststätte ()
SUMMARY:Flohmarkt
URL:https://www.kgafreiesland.de/de/component/rseventspro/ereignis/67-flohm
 arkt?Itemid=337
END:VEVENT
END:VCALENDAR
