BEGIN:VCALENDAR
VERSION:2.0
PRODID:-//https://www.kgafreiesland.de///NONSGML kigkonsult.se iCalcreator 2.10.15//
METHOD:PUBLISH
BEGIN:VEVENT
UID:20260420T164858CEST-43562vEe1v@https://www.kgafreiesland.de/
DTSTAMP:20260420T144858Z
DESCRIPTION:1. Vorsitzender https://www.kgafreiesland.de/de/component/rseve
 ntspro/ereignis/73-sitzung-geschaeftsfuehrender-vorstand?Itemid=337
DTSTART:20260504T180000Z
DTEND:20260504T200000Z
LOCATION:Vereinshaus (Romain-Rolland-Straße 35A\, 13089 Berlin\, Deutschlan
 d)
SUMMARY:Sitzung geschäftsführender Vorstand
URL:https://www.kgafreiesland.de/de/component/rseventspro/ereignis/73-sitzu
 ng-geschaeftsfuehrender-vorstand?Itemid=337
END:VEVENT
END:VCALENDAR
