BEGIN:VCALENDAR
VERSION:2.0
PRODID:-//https://www.kgafreiesland.de///NONSGML kigkonsult.se iCalcreator 2.10.15//
METHOD:PUBLISH
BEGIN:VEVENT
UID:20260422T110848CEST-2014fhXgl1@https://www.kgafreiesland.de/
DTSTAMP:20260422T090848Z
DESCRIPTION:Schatzmeisterei / Buchhaltung https://www.kgafreiesland.de/de/c
 omponent/rseventspro/ereignis/75-kassenstunde?Itemid=337
DTSTART:20260501T120000Z
DTEND:20260501T130000Z
LOCATION:Vereinshaus (Romain-Rolland-Straße 35A\, 13089 Berlin\, Deutschlan
 d)
SUMMARY:Kassenstunde
URL:https://www.kgafreiesland.de/de/component/rseventspro/ereignis/75-kasse
 nstunde?Itemid=337
END:VEVENT
END:VCALENDAR
