BEGIN:VCALENDAR
VERSION:2.0
PRODID:-//https://www.kgafreiesland.de///NONSGML kigkonsult.se iCalcreator 2.10.15//
METHOD:PUBLISH
BEGIN:VEVENT
UID:20260420T164524CEST-6305XJ8UC6@https://www.kgafreiesland.de/
DTSTAMP:20260420T144524Z
DESCRIPTION:Leiter SIKO https://www.kgafreiesland.de/de/component/rseventsp
 ro/ereignis/77-sitzung-siko?Itemid=337
DTSTART:20260428T170000Z
DTEND:20260428T190000Z
LOCATION:Vereinshaus (Romain-Rolland-Straße 35A\, 13089 Berlin\, Deutschlan
 d)
SUMMARY:Sitzung SIKO
URL:https://www.kgafreiesland.de/de/component/rseventspro/ereignis/77-sitzu
 ng-siko?Itemid=337
END:VEVENT
END:VCALENDAR
