BEGIN:VCALENDAR
VERSION:2.0
PRODID:-//https://www.kgafreiesland.de///NONSGML kigkonsult.se iCalcreator 2.10.15//
METHOD:PUBLISH
BEGIN:VEVENT
UID:20260421T001518CEST-4516Mcv3RL@https://www.kgafreiesland.de/
DTSTAMP:20260420T221518Z
DESCRIPTION:1. Vorsitzender https://www.kgafreiesland.de/de/news-termine/ka
 lenderansicht-monat/ereignis/10-sitzung-erweiterter-vorstand
DTSTART:20261114T120000Z
DTEND:20261114T140000Z
LOCATION:Vereinshaus (Romain-Rolland-Straße 35A\, 13089 Berlin\, Deutschlan
 d)
SUMMARY:Sitzung erweiterter Vorstand
URL:https://www.kgafreiesland.de/de/news-termine/kalenderansicht-monat/erei
 gnis/10-sitzung-erweiterter-vorstand
END:VEVENT
END:VCALENDAR
