BEGIN:VCALENDAR
VERSION:2.0
PRODID:-//https://www.kgafreiesland.de///NONSGML kigkonsult.se iCalcreator 2.10.15//
METHOD:PUBLISH
BEGIN:VEVENT
UID:20260421T001848CEST-64820m50Cf@https://www.kgafreiesland.de/
DTSTAMP:20260420T221848Z
DESCRIPTION:Wasser + Elektro https://www.kgafreiesland.de/de/news-termine/k
 alenderansicht-monat/ereignis/14-wasserabstellung-ablesung-w-s
DTSTART:20261106T090000Z
DTEND:20261106T110000Z
LOCATION:Kleingartenanlage ()
SUMMARY:Wasserabstellung / Ablesung W+S
URL:https://www.kgafreiesland.de/de/news-termine/kalenderansicht-monat/erei
 gnis/14-wasserabstellung-ablesung-w-s
END:VEVENT
END:VCALENDAR
