BEGIN:VCALENDAR
VERSION:2.0
PRODID:-//https://www.kgafreiesland.de///NONSGML kigkonsult.se iCalcreator 2.10.15//
METHOD:PUBLISH
BEGIN:VEVENT
UID:20260420T224838CEST-7660x6U7Pd@https://www.kgafreiesland.de/
DTSTAMP:20260420T204838Z
DESCRIPTION:Gartenvergabe gfV https://www.kgafreiesland.de/de/news-termine/
 kalenderansicht-monat/ereignis/2-sitzung-gartenvergabe
DTSTART:20261214T164500Z
DTEND:20261214T184500Z
LOCATION:Vereinshaus (Romain-Rolland-Straße 35A\, 13089 Berlin\, Deutschlan
 d)
SUMMARY:Sitzung Gartenvergabe
URL:https://www.kgafreiesland.de/de/news-termine/kalenderansicht-monat/erei
 gnis/2-sitzung-gartenvergabe
END:VEVENT
END:VCALENDAR
