BEGIN:VCALENDAR
VERSION:2.0
PRODID:-//https://www.kgafreiesland.de///NONSGML kigkonsult.se iCalcreator 2.10.15//
METHOD:PUBLISH
BEGIN:VEVENT
UID:20260421T001708CEST-7184DZjPW0@https://www.kgafreiesland.de/
DTSTAMP:20260420T221708Z
DESCRIPTION:Vorsitzende/r der Abteilung https://www.kgafreiesland.de/de/new
 s-termine/kalenderansicht-monat/ereignis/20-mitglieder-versammlung-abteilu
 ng-3
DTSTART:20261009T130000Z
DTEND:20261009T150000Z
LOCATION:Vereinsgaststätte ()
SUMMARY:Mitglieder-Versammlung Abteilung 3
URL:https://www.kgafreiesland.de/de/news-termine/kalenderansicht-monat/erei
 gnis/20-mitglieder-versammlung-abteilung-3
END:VEVENT
END:VCALENDAR
