BEGIN:VCALENDAR
VERSION:2.0
PRODID:-//https://www.kgafreiesland.de///NONSGML kigkonsult.se iCalcreator 2.10.15//
METHOD:PUBLISH
BEGIN:VEVENT
UID:20260422T063713CEST-5169I3N5nD@https://www.kgafreiesland.de/
DTSTAMP:20260422T043713Z
DESCRIPTION:Vorsitzende/r der Abteilung https://www.kgafreiesland.de/de/new
 s-termine/kalenderansicht-monat/ereignis/21-mitglieder-versammlung-abteilu
 ng-1
DTSTART:20261009T130000Z
DTEND:20261009T150000Z
LOCATION:Vereinsgaststätte ()
SUMMARY:Mitglieder-Versammlung Abteilung 1
URL:https://www.kgafreiesland.de/de/news-termine/kalenderansicht-monat/erei
 gnis/21-mitglieder-versammlung-abteilung-1
END:VEVENT
END:VCALENDAR
