BEGIN:VCALENDAR
VERSION:2.0
PRODID:-//https://www.kgafreiesland.de///NONSGML kigkonsult.se iCalcreator 2.10.15//
METHOD:PUBLISH
BEGIN:VEVENT
UID:20260422T063616CEST-00813SATBt@https://www.kgafreiesland.de/
DTSTAMP:20260422T043616Z
DESCRIPTION:Vorsitzende/r der Abteilung https://www.kgafreiesland.de/de/new
 s-termine/kalenderansicht-monat/ereignis/22-mitglieder-versammlung-abteilu
 ng-4
DTSTART:20261009T100000Z
DTEND:20261009T120000Z
LOCATION:Vereinsgaststätte ()
SUMMARY:Mitglieder-Versammlung Abteilung 4
URL:https://www.kgafreiesland.de/de/news-termine/kalenderansicht-monat/erei
 gnis/22-mitglieder-versammlung-abteilung-4
END:VEVENT
END:VCALENDAR
