BEGIN:VCALENDAR
VERSION:2.0
PRODID:-//https://www.kgafreiesland.de///NONSGML kigkonsult.se iCalcreator 2.10.15//
METHOD:PUBLISH
BEGIN:VEVENT
UID:20260422T031530CEST-31605LIjZB@https://www.kgafreiesland.de/
DTSTAMP:20260422T011530Z
DESCRIPTION:Vorsitzende/r der Abteilung https://www.kgafreiesland.de/de/new
 s-termine/kalenderansicht-monat/ereignis/26-mitglieder-versammlung-abteilu
 ng-6
DTSTART:20260926T100000Z
DTEND:20260926T120000Z
LOCATION:Vereinsgaststätte ()
SUMMARY:Mitglieder-Versammlung Abteilung 6
URL:https://www.kgafreiesland.de/de/news-termine/kalenderansicht-monat/erei
 gnis/26-mitglieder-versammlung-abteilung-6
END:VEVENT
END:VCALENDAR
