BEGIN:VCALENDAR
VERSION:2.0
PRODID:-//https://www.kgafreiesland.de///NONSGML kigkonsult.se iCalcreator 2.10.15//
METHOD:PUBLISH
BEGIN:VEVENT
UID:20260421T001842CEST-9715L0fLiH@https://www.kgafreiesland.de/
DTSTAMP:20260420T221842Z
DESCRIPTION:Gartenfachberatung https://www.kgafreiesland.de/de/news-termine
 /kalenderansicht-monat/ereignis/28-sitzung-kommission-gartenfachberatung
DTSTART:20260921T183000Z
DTEND:20260921T203000Z
LOCATION:Vereinshaus (Romain-Rolland-Straße 35A\, 13089 Berlin\, Deutschlan
 d)
SUMMARY:Sitzung Kommission Gartenfachberatung
URL:https://www.kgafreiesland.de/de/news-termine/kalenderansicht-monat/erei
 gnis/28-sitzung-kommission-gartenfachberatung
END:VEVENT
END:VCALENDAR
