BEGIN:VCALENDAR
VERSION:2.0
PRODID:-//https://www.kgafreiesland.de///NONSGML kigkonsult.se iCalcreator 2.10.15//
METHOD:PUBLISH
BEGIN:VEVENT
UID:20260421T233035CEST-1160f8UET4@https://www.kgafreiesland.de/
DTSTAMP:20260421T213035Z
DESCRIPTION:1. Vorsitzender https://www.kgafreiesland.de/de/news-termine/ka
 lenderansicht-monat/ereignis/32-sitzung-erweiterter-vorstand
DTSTART:20260911T120000Z
DTEND:20260911T140000Z
LOCATION:Vereinshaus (Romain-Rolland-Straße 35A\, 13089 Berlin\, Deutschlan
 d)
SUMMARY:Sitzung erweiterter Vorstand
URL:https://www.kgafreiesland.de/de/news-termine/kalenderansicht-monat/erei
 gnis/32-sitzung-erweiterter-vorstand
END:VEVENT
END:VCALENDAR
