BEGIN:VCALENDAR
VERSION:2.0
PRODID:-//https://www.kgafreiesland.de///NONSGML kigkonsult.se iCalcreator 2.10.15//
METHOD:PUBLISH
BEGIN:VEVENT
UID:20260421T215913CEST-6849DSrFUK@https://www.kgafreiesland.de/
DTSTAMP:20260421T195913Z
DESCRIPTION:1 Mitglied gf. Vorstand + Abtl. 6 https://www.kgafreiesland.de/
 de/news-termine/kalenderansicht-monat/ereignis/35-sprechstunde
DTSTART:20260904T130000Z
DTEND:20260904T140000Z
LOCATION:Vereinshaus (Romain-Rolland-Straße 35A\, 13089 Berlin\, Deutschlan
 d)
SUMMARY:Sprechstunde
URL:https://www.kgafreiesland.de/de/news-termine/kalenderansicht-monat/erei
 gnis/35-sprechstunde
END:VEVENT
END:VCALENDAR
