BEGIN:VCALENDAR
VERSION:2.0
PRODID:-//https://www.kgafreiesland.de///NONSGML kigkonsult.se iCalcreator 2.10.15//
METHOD:PUBLISH
BEGIN:VEVENT
UID:20260420T222726CEST-6630zVZRSI@https://www.kgafreiesland.de/
DTSTAMP:20260420T202726Z
DESCRIPTION:Schatzmeisterei / Buchhaltung https://www.kgafreiesland.de/de/n
 ews-termine/kalenderansicht-monat/ereignis/36-kassenstunde
DTSTART:20260904T120000Z
DTEND:20260904T130000Z
LOCATION:Vereinshaus (Romain-Rolland-Straße 35A\, 13089 Berlin\, Deutschlan
 d)
SUMMARY:Kassenstunde
URL:https://www.kgafreiesland.de/de/news-termine/kalenderansicht-monat/erei
 gnis/36-kassenstunde
END:VEVENT
END:VCALENDAR
