BEGIN:VCALENDAR
VERSION:2.0
PRODID:-//https://www.kgafreiesland.de///NONSGML kigkonsult.se iCalcreator 2.10.15//
METHOD:PUBLISH
BEGIN:VEVENT
UID:20260421T200141CEST-8806C3kvPN@https://www.kgafreiesland.de/
DTSTAMP:20260421T180141Z
DESCRIPTION:Bezirksverband https://www.kgafreiesland.de/de/news-termine/kal
 enderansicht-monat/ereignis/38-vorstaendekonferenz
DTSTART:20260830T000000Z
DTEND:20260830T020000Z
LOCATION:Bezirksverband ()
SUMMARY:Vorständekonferenz
URL:https://www.kgafreiesland.de/de/news-termine/kalenderansicht-monat/erei
 gnis/38-vorstaendekonferenz
END:VEVENT
END:VCALENDAR
