BEGIN:VCALENDAR
VERSION:2.0
PRODID:-//https://www.kgafreiesland.de///NONSGML kigkonsult.se iCalcreator 2.10.15//
METHOD:PUBLISH
BEGIN:VEVENT
UID:20260421T001835CEST-818188TwSc@https://www.kgafreiesland.de/
DTSTAMP:20260420T221835Z
DESCRIPTION:1. Vorsitzender https://www.kgafreiesland.de/de/news-termine/ka
 lenderansicht-monat/ereignis/4-jahresabschluss-weihnachtsessen
DTSTART:20261211T180000Z
DTEND:20261211T200000Z
LOCATION:Vereinsgaststätte ()
SUMMARY:Jahresabschluss / Weihnachtsessen
URL:https://www.kgafreiesland.de/de/news-termine/kalenderansicht-monat/erei
 gnis/4-jahresabschluss-weihnachtsessen
END:VEVENT
END:VCALENDAR
