BEGIN:VCALENDAR
VERSION:2.0
PRODID:-//https://www.kgafreiesland.de///NONSGML kigkonsult.se iCalcreator 2.10.15//
METHOD:PUBLISH
BEGIN:VEVENT
UID:20260421T081521CEST-1844CMCEof@https://www.kgafreiesland.de/
DTSTAMP:20260421T061521Z
DESCRIPTION:Vorstand / Kulturkommission https://www.kgafreiesland.de/de/new
 s-termine/kalenderansicht-monat/ereignis/45-sommerfest
DTSTART:20260711T180000Z
DTEND:20260711T200000Z
LOCATION:Festplatz ()
SUMMARY:Sommerfest
URL:https://www.kgafreiesland.de/de/news-termine/kalenderansicht-monat/erei
 gnis/45-sommerfest
END:VEVENT
END:VCALENDAR
