BEGIN:VCALENDAR
VERSION:2.0
PRODID:-//https://www.kgafreiesland.de///NONSGML kigkonsult.se iCalcreator 2.10.15//
METHOD:PUBLISH
BEGIN:VEVENT
UID:20260421T002401CEST-2548CxZoxT@https://www.kgafreiesland.de/
DTSTAMP:20260420T222401Z
DESCRIPTION:Gartenfachberatung https://www.kgafreiesland.de/de/news-termine
 /kalenderansicht-monat/ereignis/46-sitzung-kommission-gartenfachberatung
DTSTART:20260706T183000Z
DTEND:20260706T203000Z
LOCATION:Vereinsgaststätte ()
SUMMARY:Sitzung Kommission Gartenfachberatung
URL:https://www.kgafreiesland.de/de/news-termine/kalenderansicht-monat/erei
 gnis/46-sitzung-kommission-gartenfachberatung
END:VEVENT
END:VCALENDAR
