BEGIN:VCALENDAR
VERSION:2.0
PRODID:-//https://www.kgafreiesland.de///NONSGML kigkonsult.se iCalcreator 2.10.15//
METHOD:PUBLISH
BEGIN:VEVENT
UID:20260421T062519CEST-7434FEVnfx@https://www.kgafreiesland.de/
DTSTAMP:20260421T042519Z
DESCRIPTION:Vorstand / Kulturkommission https://www.kgafreiesland.de/de/new
 s-termine/kalenderansicht-monat/ereignis/48-kinderfest
DTSTART:20260703T140000Z
DTEND:20260703T160000Z
LOCATION:Vereinshaus (Romain-Rolland-Straße 35A\, 13089 Berlin\, Deutschlan
 d)
SUMMARY:Kinderfest
URL:https://www.kgafreiesland.de/de/news-termine/kalenderansicht-monat/erei
 gnis/48-kinderfest
END:VEVENT
END:VCALENDAR
