BEGIN:VCALENDAR
VERSION:2.0
PRODID:-//https://www.kgafreiesland.de///NONSGML kigkonsult.se iCalcreator 2.10.15//
METHOD:PUBLISH
BEGIN:VEVENT
UID:20260421T064101CEST-2515SZ0apw@https://www.kgafreiesland.de/
DTSTAMP:20260421T044101Z
DESCRIPTION:1 Mitglied gf. Vorstand + Abtl. 2 https://www.kgafreiesland.de/
 de/news-termine/kalenderansicht-monat/ereignis/51-sprechstunde
DTSTART:20260701T173000Z
DTEND:20260701T183000Z
LOCATION:Vereinshaus (Romain-Rolland-Straße 35A\, 13089 Berlin\, Deutschlan
 d)
SUMMARY:Sprechstunde
URL:https://www.kgafreiesland.de/de/news-termine/kalenderansicht-monat/erei
 gnis/51-sprechstunde
END:VEVENT
END:VCALENDAR
