BEGIN:VCALENDAR
VERSION:2.0
PRODID:-//https://www.kgafreiesland.de///NONSGML kigkonsult.se iCalcreator 2.10.15//
METHOD:PUBLISH
BEGIN:VEVENT
UID:20260422T124607CEST-9696pLxV5n@https://www.kgafreiesland.de/
DTSTAMP:20260422T104607Z
DESCRIPTION:KGA gesamt https://www.kgafreiesland.de/de/news-termine/kalende
 ransicht-monat/ereignis/52-gartenbegehung
DTSTART:20260621T090000Z
DTEND:20260621T110000Z
LOCATION:Kleingartenanlage ()
SUMMARY:Gartenbegehung
URL:https://www.kgafreiesland.de/de/news-termine/kalenderansicht-monat/erei
 gnis/52-gartenbegehung
END:VEVENT
END:VCALENDAR
