BEGIN:VCALENDAR
VERSION:2.0
PRODID:-//https://www.kgafreiesland.de///NONSGML kigkonsult.se iCalcreator 2.10.15//
METHOD:PUBLISH
BEGIN:VEVENT
UID:20260422T125730CEST-9364uufXG3@https://www.kgafreiesland.de/
DTSTAMP:20260422T105730Z
DESCRIPTION:KGA gesamt https://www.kgafreiesland.de/de/news-termine/kalende
 ransicht-monat/ereignis/53-zwischenablesung-wasser-und-strom
DTSTART:20260620T090000Z
DTEND:20260620T110000Z
LOCATION:Kleingartenanlage ()
SUMMARY:Zwischenablesung Wasser und Strom
URL:https://www.kgafreiesland.de/de/news-termine/kalenderansicht-monat/erei
 gnis/53-zwischenablesung-wasser-und-strom
END:VEVENT
END:VCALENDAR
