BEGIN:VCALENDAR
VERSION:2.0
PRODID:-//https://www.kgafreiesland.de///NONSGML kigkonsult.se iCalcreator 2.10.15//
METHOD:PUBLISH
BEGIN:VEVENT
UID:20260422T130018CEST-14730dOmUP@https://www.kgafreiesland.de/
DTSTAMP:20260422T110018Z
DESCRIPTION:KGA gesamt https://www.kgafreiesland.de/de/news-termine/kalende
 ransicht-monat/ereignis/54-gartenbegehung
DTSTART:20260620T000000Z
DTEND:20260620T020000Z
LOCATION:Kleingartenanlage ()
SUMMARY:Gartenbegehung
URL:https://www.kgafreiesland.de/de/news-termine/kalenderansicht-monat/erei
 gnis/54-gartenbegehung
END:VEVENT
END:VCALENDAR
