BEGIN:VCALENDAR
VERSION:2.0
PRODID:-//https://www.kgafreiesland.de///NONSGML kigkonsult.se iCalcreator 2.10.15//
METHOD:PUBLISH
BEGIN:VEVENT
UID:20260420T221056CEST-61267NDd28@https://www.kgafreiesland.de/
DTSTAMP:20260420T201056Z
DESCRIPTION:Leiter SIKO https://www.kgafreiesland.de/de/news-termine/kalend
 eransicht-monat/ereignis/55-sitzung-siko
DTSTART:20260616T170000Z
DTEND:20260616T190000Z
LOCATION:Vereinshaus (Romain-Rolland-Straße 35A\, 13089 Berlin\, Deutschlan
 d)
SUMMARY:Sitzung SIKO
URL:https://www.kgafreiesland.de/de/news-termine/kalenderansicht-monat/erei
 gnis/55-sitzung-siko
END:VEVENT
END:VCALENDAR
