BEGIN:VCALENDAR
VERSION:2.0
PRODID:-//https://www.kgafreiesland.de///NONSGML kigkonsult.se iCalcreator 2.10.15//
METHOD:PUBLISH
BEGIN:VEVENT
UID:20260420T224736CEST-7505DP5VBi@https://www.kgafreiesland.de/
DTSTAMP:20260420T204736Z
DESCRIPTION:1 Mitglied gf. Vorstand + Abtl. 1 https://www.kgafreiesland.de/
 de/news-termine/kalenderansicht-monat/ereignis/58-sprechstunde
DTSTART:20260605T150000Z
DTEND:20260605T160000Z
LOCATION:Vereinshaus (Romain-Rolland-Straße 35A\, 13089 Berlin\, Deutschlan
 d)
SUMMARY:Sprechstunde
URL:https://www.kgafreiesland.de/de/news-termine/kalenderansicht-monat/erei
 gnis/58-sprechstunde
END:VEVENT
END:VCALENDAR
