BEGIN:VCALENDAR
VERSION:2.0
PRODID:-//https://www.kgafreiesland.de///NONSGML kigkonsult.se iCalcreator 2.10.15//
METHOD:PUBLISH
BEGIN:VEVENT
UID:20260421T001830CEST-4595hEuN3E@https://www.kgafreiesland.de/
DTSTAMP:20260420T221830Z
DESCRIPTION:Gartenfachberatung Jahresabschluss https://www.kgafreiesland.de
 /de/news-termine/kalenderansicht-monat/ereignis/6-sitzung-kommission-garte
 nfachberatung
DTSTART:20261130T183000Z
DTEND:20261130T203000Z
LOCATION:Vereinsgaststätte ()
SUMMARY:Sitzung Kommission Gartenfachberatung
URL:https://www.kgafreiesland.de/de/news-termine/kalenderansicht-monat/erei
 gnis/6-sitzung-kommission-gartenfachberatung
END:VEVENT
END:VCALENDAR
