BEGIN:VCALENDAR
VERSION:2.0
PRODID:-//https://www.kgafreiesland.de///NONSGML kigkonsult.se iCalcreator 2.10.15//
METHOD:PUBLISH
BEGIN:VEVENT
UID:20260420T221528CEST-6422Ut5ZFH@https://www.kgafreiesland.de/
DTSTAMP:20260420T201528Z
DESCRIPTION:1. Vorsitzender https://www.kgafreiesland.de/de/news-termine/ka
 lenderansicht-monat/ereignis/64-sitzung-geschaeftsfuehrender-vorstand
DTSTART:20260601T180000Z
DTEND:20260601T200000Z
LOCATION:Vereinshaus (Romain-Rolland-Straße 35A\, 13089 Berlin\, Deutschlan
 d)
SUMMARY:Sitzung geschäftsführender Vorstand
URL:https://www.kgafreiesland.de/de/news-termine/kalenderansicht-monat/erei
 gnis/64-sitzung-geschaeftsfuehrender-vorstand
END:VEVENT
END:VCALENDAR
